BEGIN:VCALENDAR
VERSION:2.0
PRODID:-//wp-events-plugin.com//7.2.3.1//EN
TZID:Europe/Paris
X-WR-TIMEZONE:Europe/Paris
BEGIN:VEVENT
UID:546@egliseverte.org
DTSTART;TZID=Europe/Paris:20251004T100000
DTEND;TZID=Europe/Paris:20251004T170000
DTSTAMP:20250905T104637Z
URL:https://www.egliseverte.org/agenda/temps-pour-la-creation-2025/
SUMMARY:Temps pour la Création 2025
DESCRIPTION:Une journée œcuménique est proposée le samedi 4 octobre 202
 5 à Scy-Chazelles\, au Monastère de la Visitation (9 rue de Moulins)\, d
 ans le cadre du Temps pour la sauvegarde de la Création.\n\nAu programme 
 :\n\n10h : Accueil\n10h30 : Temps de prière œcuménique\n10h45 : Réflex
 ion sur le thème « paix et écologie » par le pasteur Christophe Hahlin
 g\n12h30 : Pique-nique tiré du sac\n13h30-15h30 : Activités au choix (vi
 site de la maison de Robert Schuman (inscription conseillée)\, visionnage
  du film La lettre ou balade)\n16h : Célébration œcuménique
ATTACH;FMTTYPE=image/jpeg:https://www.egliseverte.org/wp-content/uploads/2
 025/06/TPC2025-STANDARD-V.-CATHOLIQUE1-scaled.png
LOCATION:Scy-Chazelles (57)\, Monastère de la Visitation\, Scy-Chazelles\,
  Moselle\, 57160\, Grand Est\, France
GEO:49.112237;6.111398
X-APPLE-STRUCTURED-LOCATION;VALUE=URI;X-ADDRESS=Monastère de la Visitation
 \, Scy-Chazelles\, Moselle\, 57160\, Grand Est\, France;X-APPLE-RADIUS=100
 ;X-TITLE=Scy-Chazelles (57):geo:49.112237,6.111398
END:VEVENT
BEGIN:VTIMEZONE
TZID:Europe/Paris
X-LIC-LOCATION:Europe/Paris
BEGIN:DAYLIGHT
DTSTART:20250330T030000
TZOFFSETFROM:+0100
TZOFFSETTO:+0200
TZNAME:CEST
END:DAYLIGHT
END:VTIMEZONE
END:VCALENDAR