BEGIN:VCALENDAR
VERSION:2.0
PRODID:-//wp-events-plugin.com//7.2.3.1//EN
TZID:Europe/Paris
X-WR-TIMEZONE:Europe/Paris
BEGIN:VEVENT
UID:392@egliseverte.org
DTSTART;TZID=Europe/Paris:20240929T150000
DTEND;TZID=Europe/Paris:20240929T193000
DTSTAMP:20240912T104312Z
URL:https://www.egliseverte.org/agenda/temps-pour-la-creation-au-monastere
 -de-pie-foulard-79/
SUMMARY:Temps pour la Création au Monastère de Pié Foulard (79)
DESCRIPTION:Les communautés catholiques\, protestantes et orthodoxe du sud
  Mellois proposent un temps de prière et de réflexion :\n\n 	15 h Prése
 ntation du label Église verte et du collectif Anastasis.\n 	Marche sur un
  chemin de contemplation.\n 	18 h Vêpres œcuméniques\n 	suivi d’un re
 pas partagé : apporter plats et couverts !\n
ATTACH;FMTTYPE=image/jpeg:https://www.egliseverte.org/wp-content/uploads/2
 024/09/TpC-2024_affiche-A4_v2b_page-0001.jpg
LOCATION:PIE-FOULARD\, Pié-Foulard \, Prailles - La Couarde\, 79 - DEUX SE
 VRES\, 79370 \, DEUX SEVRES\, France
X-APPLE-STRUCTURED-LOCATION;VALUE=URI;X-ADDRESS=Pié-Foulard \, Prailles - 
 La Couarde\, 79 - DEUX SEVRES\, 79370 \, DEUX SEVRES\, France;X-APPLE-RADI
 US=100;X-TITLE=PIE-FOULARD:geo:0,0
END:VEVENT
BEGIN:VTIMEZONE
TZID:Europe/Paris
X-LIC-LOCATION:Europe/Paris
BEGIN:DAYLIGHT
DTSTART:20240331T030000
TZOFFSETFROM:+0100
TZOFFSETTO:+0200
TZNAME:CEST
END:DAYLIGHT
END:VTIMEZONE
END:VCALENDAR