BEGIN:VCALENDAR
VERSION:2.0
PRODID:-//wp-events-plugin.com//7.2.3.1//EN
TZID:Europe/Paris
X-WR-TIMEZONE:Europe/Paris
BEGIN:VEVENT
UID:304@egliseverte.org
DTSTART;TZID=Europe/Paris:20240504T100000
DTEND;TZID=Europe/Paris:20240504T210000
DTSTAMP:20240215T102639Z
URL:https://www.egliseverte.org/agenda/terre-desperance-94/
SUMMARY:Terre d'Espérance (94)
DESCRIPTION:L’Église protestante unie en région parisienne organise le 
 samedi 4 mai\, dans le parc du temple de Boissy-Saint-Léger (94)\, une gr
 ande journée d’information\, de rencontre\, de fête et de prière auto
 ur des enjeux du dérèglement climatique\, d'écologie\, de justice socia
 le et de foi.\n\nTerre d’Espérance\, un festival protestant pour l’av
 enir de la création\n\nQu’est-ce que le climat a à voir avec la foi ? 
 Doit-on essayer de sauver la planète ? Conversion écologique ou conversi
 on à Dieu ? Qu’est-ce que je peux faire depuis ma place ? Depuis 2021 e
 t le synode de Sète\, l’EPUDF l’affirme : face aux changements profon
 ds auxquels nos sociétés sont appelées\, nous avons un témoignage à a
 pporter au monde. Il est de notre responsabilité de nourrir l’espéranc
 e.\n\nAlors\, ensemble – services régionaux\, pasteurs\, consistoires\,
  conseil régional – nous avons inventé Terre d’Espérance\, un festi
 val familial qui associe des personnes de tous âges\, membres ou non de n
 os Églises locales. Ce sera un événement joyeux et convivial. Nous parl
 erons de choses sérieuses\, puisqu’il s’agit de notre avenir et de ce
 lui de la planète. Nous le ferons de façon ludique et décontractée. No
 us parlerons à partir de notre foi\, en cherchant à dire ce qui nous mot
 ive pour agir\, ce qui nous ancre dans l’espérance. Nous débattrons de
  tous ces sujets\, nous échangerons des expériences vécues en famille o
 u en paroisse\, nous entendrons des grands témoins\, nous profiterons de 
 la nature et du grand air.\n\nUne pièce de théâtre – Ecolo Swing –\
 , des films\, la Fresque du climat et la Fresque des nouveaux récits\, un
  atelier argile et un atelier potager/agriculture urbaine. Pour les enfant
 s\, il y aura de très nombreuses animations et un grand jeu en forêt\, a
 nimé par les éclaireurs unionistes.\n\nLa journée se terminera par une 
 veillée spirituelle festive !\n\nhttps://rp.epudf.org/evenements/festival
 -protestant-terre-d-esperance/
ATTACH;FMTTYPE=image/jpeg:https://www.egliseverte.org/wp-content/uploads/2
 024/02/Terre-desperance_affiche-pour-export.jpg
LOCATION:Parc du temple de Boissy-Saint-Léger\, 4 rue Mercière\, Boissy-S
 aint-Léger\, 94470 \, France
X-APPLE-STRUCTURED-LOCATION;VALUE=URI;X-ADDRESS=4 rue Mercière\, Boissy-Sa
 int-Léger\, 94470 \, France;X-APPLE-RADIUS=100;X-TITLE=Parc du temple de 
 Boissy-Saint-Léger:geo:0,0
END:VEVENT
BEGIN:VTIMEZONE
TZID:Europe/Paris
X-LIC-LOCATION:Europe/Paris
BEGIN:DAYLIGHT
DTSTART:20240331T030000
TZOFFSETFROM:+0100
TZOFFSETTO:+0200
TZNAME:CEST
END:DAYLIGHT
END:VTIMEZONE
END:VCALENDAR