BEGIN:VCALENDAR
VERSION:2.0
PRODID:-//wp-events-plugin.com//7.2.3.1//EN
TZID:Europe/Paris
X-WR-TIMEZONE:Europe/Paris
BEGIN:VEVENT
UID:371@egliseverte.org
DTSTART;TZID=Europe/Paris:20240924T123000
DTEND;TZID=Europe/Paris:20240924T140000
DTSTAMP:20240904T094948Z
URL:https://www.egliseverte.org/agenda/the-week-59-en-ligne-2024-09-24/
SUMMARY:The Week (59/en ligne)
DESCRIPTION:Venez vivre l'expérience The Week\, proposée par le centre sp
 irituel du Hautmont !\n\nL’environnement se dégrade et le climat change
  rapidement. The Week est une expérience de groupe et en visio pour nous 
 aider à comprendre ce qui se profile et ce que nous pouvons faire à ce s
 ujet.\n\nParcours en 3 RDV en visio répartis sur une semaine\, de 12h30 
 à 14h.\n\n 	Soit les 24\, 27 septembre et 1er octobre 2024\n 	Soit les 14
 \, 17 et 21 janvier 2025\n\nhttps://www.hautmont.org/propositions/the-week
ATTACH;FMTTYPE=image/jpeg:https://www.egliseverte.org/wp-content/uploads/2
 024/01/The-Week.jpg
LOCATION:https://www.hautmont.org/propositions/the-week
END:VEVENT
BEGIN:VTIMEZONE
TZID:Europe/Paris
X-LIC-LOCATION:Europe/Paris
BEGIN:DAYLIGHT
DTSTART:20240331T030000
TZOFFSETFROM:+0100
TZOFFSETTO:+0200
TZNAME:CEST
END:DAYLIGHT
END:VTIMEZONE
END:VCALENDAR