BEGIN:VCALENDAR
VERSION:2.0
PRODID:-//wp-events-plugin.com//7.2.3.1//EN
TZID:Europe/Paris
X-WR-TIMEZONE:Europe/Paris
BEGIN:VEVENT
UID:618@egliseverte.org
DTSTART;TZID=Europe/Paris:20251202T203000
DTEND;TZID=Europe/Paris:20251204T221500
DTSTAMP:20251118T152313Z
URL:https://www.egliseverte.org/agenda/the-week-trois-soirees-pour-oser-en
 trer-en-conversation-a-propos-decologie/
SUMMARY:The Week\, trois soirées pour oser entrer en conversation à propo
 s d’écologie
DESCRIPTION:Oser entrer en conversation à propos d’écologie\, c'est ce 
 que va permettre le processus The Week\n\nL’équipe Laudato Si de l’en
 semble paroissial saint Pothin-Immaculée Conception vous invite à trois 
 soirées pour oser entrer en conversation à propos des crises environneme
 ntales les\nMardi 2 décembre (20h30)\nMercredi 3 décembre (20h30)\,\nJeu
 di 4 décembre (20h30).\nLes rencontres se feront salle Jean-Paul II\, 39\
 , rue Bugeaud (entre les rues Créqui et Duguesclin) à 20h30 précises.\n
 La présence aux 3 soirées dans ce format rapproché est nécessaire pour
  la pédagogie de la démarche.
ATTACH;FMTTYPE=image/jpeg:https://www.egliseverte.org/wp-content/uploads/2
 025/03/The-Week-collage.jpg
LOCATION:salle Jean-Paul II\, 39 rue Bugeaud\, LYON\, 69006\, Rhône\, Fran
 ce
GEO:45.766418;4.847458
X-APPLE-STRUCTURED-LOCATION;VALUE=URI;X-ADDRESS=39 rue Bugeaud\, LYON\, 690
 06\, Rhône\, France;X-APPLE-RADIUS=100;X-TITLE=salle Jean-Paul II:geo:45.
 766418,4.847458
END:VEVENT
BEGIN:VTIMEZONE
TZID:Europe/Paris
X-LIC-LOCATION:Europe/Paris
BEGIN:STANDARD
DTSTART:20251026T020000
TZOFFSETFROM:+0200
TZOFFSETTO:+0100
TZNAME:CET
END:STANDARD
END:VTIMEZONE
END:VCALENDAR