BEGIN:VCALENDAR
VERSION:2.0
PRODID:-//wp-events-plugin.com//7.2.3.1//EN
TZID:Europe/Paris
X-WR-TIMEZONE:Europe/Paris
BEGIN:VEVENT
UID:345@egliseverte.org
DTSTART;TZID=Europe/Paris:20240609T000000
DTEND;TZID=Europe/Paris:20240609T000000
DTSTAMP:20240605T143721Z
URL:https://www.egliseverte.org/agenda/une-journee-pour-vivre-en-harmonie-
 avec-la-nature-27/
SUMMARY:Une journée pour vivre en harmonie avec la nature (27)
DESCRIPTION:11h Messe\n\n12h30 Apéritif et pique-nique sur l’herbe\n\n14
 h Création d’un jardin aromatique\, jardinage\, bricolage…\n\n16h Con
 férence présentée par le Dr Irène Piquion\nHildegarde\, sa vie son œu
 vre\nEt le rapport de l’homme à la Création\n\nhttp://www.paroisse-sai
 ntjeanbaptiste-evreux.com/agenda/une-journee-pour-vivre-en-harmonie-avec-l
 a-nature.html
ATTACH;FMTTYPE=image/jpeg:https://www.egliseverte.org/wp-content/uploads/2
 024/06/Affiche-09-06-2024.jpg
LOCATION:Eglise Saint Michel\, 4 rue du Panorama\, Evreux\, Eure\, 27000\, 
 Normandie\, France
X-APPLE-STRUCTURED-LOCATION;VALUE=URI;X-ADDRESS=4 rue du Panorama\, Evreux\
 , Eure\, 27000\, Normandie\, France;X-APPLE-RADIUS=100;X-TITLE=Eglise Sain
 t Michel:geo:0,0
END:VEVENT
BEGIN:VTIMEZONE
TZID:Europe/Paris
X-LIC-LOCATION:Europe/Paris
BEGIN:DAYLIGHT
DTSTART:20240331T030000
TZOFFSETFROM:+0100
TZOFFSETTO:+0200
TZNAME:CEST
END:DAYLIGHT
END:VTIMEZONE
END:VCALENDAR