BEGIN:VCALENDAR
VERSION:2.0
PRODID:-//wp-events-plugin.com//7.2.3.1//EN
TZID:Europe/Paris
X-WR-TIMEZONE:Europe/Paris
BEGIN:VEVENT
UID:507@egliseverte.org
DTSTART;TZID=Europe/Paris:20250906T093000
DTEND;TZID=Europe/Paris:20250906T160000
DTSTAMP:20250718T131451Z
URL:https://www.egliseverte.org/agenda/vers-lharmonie-au-jardin/
SUMMARY:Vers l'harmonie au jardin
DESCRIPTION:Journée œcuménique proposée par le réseau Église verte Al
 sace\, l'UEPAL\, le diocèse de Strasbourg et CMR 67.\n\nTous les détails
  sur le programme sont sur le visuel !\n\nLe jardin : https://hymenoptera.
 fr/hortus/
ATTACH;FMTTYPE=image/jpeg:https://www.egliseverte.org/wp-content/uploads/2
 025/07/Flyers-laudato-Si-2025.jpg
LOCATION:Hymenoptera\, 37 rue Principale\, Obersteinbach\, 67\, 67510\, Gra
 nd ESt\, France
GEO:49.036231;7.685615
X-APPLE-STRUCTURED-LOCATION;VALUE=URI;X-ADDRESS=37 rue Principale\, Oberste
 inbach\, 67\, 67510\, Grand ESt\, France;X-APPLE-RADIUS=100;X-TITLE=Hymeno
 ptera:geo:49.036231,7.685615
END:VEVENT
BEGIN:VTIMEZONE
TZID:Europe/Paris
X-LIC-LOCATION:Europe/Paris
BEGIN:DAYLIGHT
DTSTART:20250330T030000
TZOFFSETFROM:+0100
TZOFFSETTO:+0200
TZNAME:CEST
END:DAYLIGHT
END:VTIMEZONE
END:VCALENDAR