BEGIN:VCALENDAR
VERSION:2.0
PRODID:-//wp-events-plugin.com//7.2.3.1//EN
TZID:Europe/Paris
X-WR-TIMEZONE:Europe/Paris
BEGIN:VEVENT
UID:468@egliseverte.org
DTSTART;TZID=Europe/Paris:20250426T150000
DTEND;TZID=Europe/Paris:20250426T164500
DTSTAMP:20250414T125225Z
URL:https://www.egliseverte.org/agenda/visite-de-l-exposition-ocean-bastia
 /
SUMMARY:Visite de l'exposition OCÉAN - Plongée insolite dans l'univers de
 s océans\, merveilles et pollution
DESCRIPTION:Week-end jeunes + exposition « Océan »\nNous nous retrouvero
 ns avec les jeunes de l’Église protestante unie de Corse à Pietranera\
 , du vendredi 25 en fin d’après-midi au dimanche 27 avril après le rep
 as qui suivra le culte. Le samedi\, dans le cadre de la démarche Église 
 verte\, nous rencontrerons des jeunes catholiques du mouvement Laudato Si'
 \, pour la visite de l’exposition Océan (la visite est ouverte aux adul
 tes qui souhaiteraient nous y rejoindre.)\n\nCasa di e Scenze – Maison d
 es Sciences\, Quartier de Lupino\, Bastia. Samedi 26 avril. Rendez-vous : 
 15h à l’entrée.
ATTACH;FMTTYPE=image/jpeg:https://www.egliseverte.org/wp-content/uploads/2
 025/03/20250323_161616.jpg
LOCATION:Casa di e Senze\, Maison des sciences\, Quatier Lupino\, Bastia\, 
 HAUTE CORSE\, 20200\, CORSE\, France
X-APPLE-STRUCTURED-LOCATION;VALUE=URI;X-ADDRESS=Quatier Lupino\, Bastia\, H
 AUTE CORSE\, 20200\, CORSE\, France;X-APPLE-RADIUS=100;X-TITLE=Casa di e S
 enze\, Maison des sciences:geo:0,0
END:VEVENT
BEGIN:VTIMEZONE
TZID:Europe/Paris
X-LIC-LOCATION:Europe/Paris
BEGIN:DAYLIGHT
DTSTART:20250330T030000
TZOFFSETFROM:+0100
TZOFFSETTO:+0200
TZNAME:CEST
END:DAYLIGHT
END:VTIMEZONE
END:VCALENDAR