BEGIN:VCALENDAR
VERSION:2.0
PRODID:-//wp-events-plugin.com//7.2.3.1//EN
TZID:Europe/Paris
X-WR-TIMEZONE:Europe/Paris
BEGIN:VEVENT
UID:519@egliseverte.org
DTSTART;TZID=Europe/Paris:20250916T180000
DTEND;TZID=Europe/Paris:20250916T210000
DTSTAMP:20250901T073053Z
URL:https://www.egliseverte.org/agenda/visite-ecologique-et-spirituelle-du
 -parc-du-centre-spirituel-du-hautmont/
SUMMARY:Visite écologique et spirituelle du Parc du Centre spirituel du Ha
 utmont
DESCRIPTION:Venez découvrir le parc du Centre Spirituel du Hautmont lors d
 ’une balade contemplative propice à l’émerveillement.\n\nVisite orga
 nisée et animée par les membres du Pôle Ecologie Intégrale et l’équ
 ipe des jardiniers du Centre.\n\nhttps://www.hautmont.org/propositions/vis
 ite-ecologique-et-spirituelle/le-mardi-16-septembre-2025-de-18h00-a-21h00
ATTACH;FMTTYPE=image/jpeg:https://www.egliseverte.org/wp-content/uploads/2
 022/09/hautmont.jpeg
LOCATION:Centre spirituel du Hautmont (59)\, 31 rue Mirabeau\, Mouvaux\, Fr
 ance\, 59420\, Hauts de France\, France
GEO:50.705277;3.129151
X-APPLE-STRUCTURED-LOCATION;VALUE=URI;X-ADDRESS=31 rue Mirabeau\, Mouvaux\,
  France\, 59420\, Hauts de France\, France;X-APPLE-RADIUS=100;X-TITLE=Cent
 re spirituel du Hautmont (59):geo:50.705277,3.129151
END:VEVENT
BEGIN:VTIMEZONE
TZID:Europe/Paris
X-LIC-LOCATION:Europe/Paris
BEGIN:DAYLIGHT
DTSTART:20250330T030000
TZOFFSETFROM:+0100
TZOFFSETTO:+0200
TZNAME:CEST
END:DAYLIGHT
END:VTIMEZONE
END:VCALENDAR