BEGIN:VCALENDAR
VERSION:2.0
PRODID:-//wp-events-plugin.com//7.2.3.1//EN
TZID:Europe/Paris
X-WR-TIMEZONE:Europe/Paris
BEGIN:VEVENT
UID:628@egliseverte.org
DTSTART;TZID=Europe/Paris:20260122T200000
DTEND;TZID=Europe/Paris:20260122T213000
DTSTAMP:20260108T145808Z
URL:https://www.egliseverte.org/agenda/webinaire-biodiversite-urbaine/
SUMMARY:Webinaire Biodiversité urbaine
DESCRIPTION:J’habite en ville\, suis-je concerné.e par la biodiversité 
 ? Aménagées par et pour les humains\, les villes contiennent beaucoup de
  sols artificialisés et d’espaces minéralisés. De nombreuses pression
 s s’exercent sur la biodiversité des écosystèmes urbains : fragmentat
 ion des milieux naturels\, pollutions\, concurrences des espèces exotique
 s envahissantes…\n\nOn pourrait donc penser que la biodiversité n’y a
  pas sa place. Pourtant\, beaucoup de villes veulent évoluer pour minimis
 er les pressions pesant sur la biodiversité. Les citadins demandent un me
 illeur cadre de vie\, dans des villes plus durables et résilientes.\n\nCo
 mment la biodiversité urbaine nous impacte-t-elle ? Quel lien avec notre 
 foi chrétienne ? Comment pouvons-nous agir en tant que citoyens et chrét
 iens ?\n\nAu travers d’exemples concrets\, nous discuterons de ces quest
 ions et donnerons des pistes d’action.\n\nWebinaire ouvert à tous\, gra
 tuit et sur inscription
ATTACH;FMTTYPE=image/jpeg:https://www.egliseverte.org/wp-content/uploads/2
 026/01/webainire-biodiversite-urbaine-janvier2026.jpg
LOCATION:https://us02web.zoom.us/meeting/register/rMxaNivAR96vmYM7Q_5aOg#/r
 egistration
END:VEVENT
BEGIN:VTIMEZONE
TZID:Europe/Paris
X-LIC-LOCATION:Europe/Paris
BEGIN:STANDARD
DTSTART:20251026T020000
TZOFFSETFROM:+0200
TZOFFSETTO:+0100
TZNAME:CET
END:STANDARD
END:VTIMEZONE
END:VCALENDAR