BEGIN:VCALENDAR
VERSION:2.0
PRODID:-//wp-events-plugin.com//7.2.3.1//EN
TZID:Europe/Paris
X-WR-TIMEZONE:Europe/Paris
BEGIN:VEVENT
UID:321@egliseverte.org
DTSTART;TZID=Europe/Paris:20240423T193000
DTEND;TZID=Europe/Paris:20240423T210000
DTSTAMP:20240412T101253Z
URL:https://www.egliseverte.org/agenda/webinaire-europeen-energie-fossile-
 et-guerre/
SUMMARY:Webinaire européen - Énergie fossile et guerre. Comment construir
 e la paix en Europe\, de la communauté du charbon et de l\\'acier de Robe
 rt Schuman à la transition vers les énergies renouvelables.
DESCRIPTION:Le Mouvement Laudato Si' organise un webinaire européen le 23 
 avril de 19h30 à 21h (heure de Paris) en partenariat avec Justice et Paix
  Europe et Pax Christi International. Le webinaire est intitulé Énergie 
 fossile et guerre. Comment construire la paix en Europe\, de la communaut
 é du charbon et de l'acier de Robert Schuman à la transition vers les é
 nergies renouvelables.\nJe m'inscris !\nA l'approche des élections europ
 éennes (9 juin en France)\, ce webinaire permettra aux Européens de réf
 léchir à leur participation en tant que chrétiens dans la vie civique e
 t politique\, grâce à la figure de Robert Schuman\, un père fondateur d
 e l'Europe désigné vénérable par l’Église catholique\, qui s'est en
 gagé pour la paix après la Seconde Guerre mondiale en créant la Communa
 uté européenne du charbon et de l'acier (l'orateur pour cette partie ser
 a le professeur Zbigniew Krysiak\, directeur polonais du Schuman Thought I
 nstitute).\nAujourd'hui\, l'Europe\, comme le reste du monde\, est extrêm
 ement dépendante des énergies fossiles\, qui sont à l'origine du change
 ment climatique et à la source de nombreux conflits et dépendances géop
 olitiques. Alors que la guerre est de retour sur notre continent\, nous pr
 endrons l'invasion de l'Ukraine par la Russie comme exemple de notre dépe
 ndance au gaz (l'intervenante pour cette partie sera Svitlana Romanko\, fo
 ndatrice et directrice de l'organisation ukrainienne Razom We Stand\, issu
 e de la campagne #StandWithUkraine visant à mettre fin à la dépendance 
 mondiale aux énergies fossiles qui alimente la machine de guerre de Pouti
 ne).\n\nNous verrons ensuite comment l'Europe peut construire la paix aujo
 urd'hui et à l'avenir grâce à la transition écologique et à l'abandon
  progressif des énergies fossiles (l'orateur pour cette partie sera Luca 
 Jahier\, ancien président du Comité économique et social européen).
ATTACH;FMTTYPE=image/jpeg:https://www.egliseverte.org/wp-content/uploads/2
 024/04/FR_webinar_visual_square.png
LOCATION:https://us06web.zoom.us/meeting/register/tZEscOCtqzovHdb7b4-GxT5Bk
 Dyv5p69V_cY
END:VEVENT
BEGIN:VTIMEZONE
TZID:Europe/Paris
X-LIC-LOCATION:Europe/Paris
BEGIN:DAYLIGHT
DTSTART:20240331T030000
TZOFFSETFROM:+0100
TZOFFSETTO:+0200
TZNAME:CEST
END:DAYLIGHT
END:VTIMEZONE
END:VCALENDAR