BEGIN:VCALENDAR
VERSION:2.0
PRODID:-//wp-events-plugin.com//7.2.3.1//EN
TZID:Europe/Paris
X-WR-TIMEZONE:Europe/Paris
BEGIN:VEVENT
UID:601@egliseverte.org
DTSTART;TZID=Europe/Paris:20251108T090000
DTEND;TZID=Europe/Paris:20251109T163000
DTSTAMP:20251011T124856Z
URL:https://www.egliseverte.org/agenda/week-end-laudato-si/
SUMMARY:Week-end Laudato Si
DESCRIPTION:La communauté des soeurs clarisses vous propose de venir vivre
  un week-end à l'occasion des 800 ans du Cantique des Créatures de saint
  François d'Assise\, intitulé : Laudato si mi signore\, ensemble en chem
 in vers l'écologie intégrale qui touche et interroge le sens de la vie.\
 n\nhttps://clarisses-cormontreuil-catholique.fr/event/laudato-si-mi-signor
 e/
ATTACH;FMTTYPE=image/jpeg:https://www.egliseverte.org/wp-content/uploads/2
 025/10/Affiche-WE-Sauvegarde-creation-nov-2025.png
LOCATION:Monastère sainte Claire\, 2 rue Pierre Bérégovoy\, CORMONTREUIL
 \, MARNE\, 51350\, Grand Est\, France
GEO:49.217616;4.034528
X-APPLE-STRUCTURED-LOCATION;VALUE=URI;X-ADDRESS=2 rue Pierre Bérégovoy\, 
 CORMONTREUIL\, MARNE\, 51350\, Grand Est\, France;X-APPLE-RADIUS=100;X-TIT
 LE=Monastère sainte Claire:geo:49.217616,4.034528
END:VEVENT
BEGIN:VTIMEZONE
TZID:Europe/Paris
X-LIC-LOCATION:Europe/Paris
BEGIN:STANDARD
DTSTART:20251026T020000
TZOFFSETFROM:+0200
TZOFFSETTO:+0100
TZNAME:CET
END:STANDARD
END:VTIMEZONE
END:VCALENDAR