BEGIN:VCALENDAR
VERSION:2.0
PRODID:-//wp-events-plugin.com//7.2.3.1//EN
TZID:Europe/Paris
X-WR-TIMEZONE:Europe/Paris
BEGIN:VEVENT
UID:452@egliseverte.org
DTSTART;TZID=Europe/Paris:20250314T190000
DTEND;TZID=Europe/Paris:20250316T140000
DTSTAMP:20250219T171923Z
URL:https://www.egliseverte.org/agenda/week-end-spirituel-esperer-dans-un-
 monde-en-crise/
SUMMARY:Week-end spirituel "Espérer dans un monde en crise à la lumière 
 de la Bible et de l'écologie intégrale" (60)
DESCRIPTION:À L’Arche\, l’expérience de la rencontre et de l’amiti
 é avec les personnes les plus fragiles provoque une transformation intér
 ieure\, nous pousse vers plus de simplicité\, vers plus de vie\, nous aid
 e à devenir nous-même. Cette expérience peut aussi nous aider à change
 r de regard sur la création\, à nous convertir\, à envisager un nouveau
  rapport\, plus simple et plus respectueux\, avec la planète qui nous a 
 été confiée. Nos communautés s’inscrivent dans le mouvement de l’
 écologie intégrale et de développement durable.\nwww.lafermedelarche.or
 g/sessions/ecologie-2025/\n👉 Accompagné par une bibliste et un spécia
 liste de la transition écologique (ancien directeur de l’ADEME)\, un we
 ek-end pour réfléchir ensemble au monde tel qu'il est et au monde que no
 us pouvons contribuer à faire advenir.\nAvec au menu :\n😃 la présence
  vivifiante et inspirante des personnes avec un handicap\n🗣️ des éch
 anges pour grandir ensemble\n💤 du repos (le week-end sert aussi à cela
 )\n🥗 des menus locavore et des voisins de tables sympas\n🌲 des balad
 es en forêt
ATTACH;FMTTYPE=image/jpeg:https://www.egliseverte.org/wp-content/uploads/2
 025/02/Ecologie-2025-v1-002.jpg
END:VEVENT
BEGIN:VTIMEZONE
TZID:Europe/Paris
X-LIC-LOCATION:Europe/Paris
BEGIN:STANDARD
DTSTART:20241027T020000
TZOFFSETFROM:+0200
TZOFFSETTO:+0100
TZNAME:CET
END:STANDARD
END:VTIMEZONE
END:VCALENDAR